BEGIN:VCALENDAR
VERSION:2.0
PRODID:-//calendario.ucentral.cl//ICS Export//EN
CALSCALE:GREGORIAN
METHOD:PUBLISH
BEGIN:VTIMEZONE
TZID:America/Santiago
X-LIC-LOCATION:America/Santiago
BEGIN:STANDARD
TZOFFSETFROM:-0300
TZOFFSETTO:-0400
TZNAME:-04
DTSTART:19700405T030000
RRULE:FREQ=YEARLY;BYMONTH=4;BYDAY=1SU
END:STANDARD
BEGIN:DAYLIGHT
TZOFFSETFROM:-0400
TZOFFSETTO:-0300
TZNAME:-03
DTSTART:19700907T040000
RRULE:FREQ=YEARLY;BYMONTH=9;BYDAY=1SU
END:DAYLIGHT
END:VTIMEZONE
BEGIN:VEVENT
UID:69e8fee2b85c8@calendario.ucentral.cl
SUMMARY:Etapa de Matrícula | Proceso de Admisión 2026
DESCRIPTION:Posterior a la difusión de los resultados de Postulación o Selección, el martes 20 de enero de 2026 comienza la etapa de matrícula a las 47 universidades participantes en el Proceso de Admisión 2026, hasta el jueves 29 de enero de 2026.

&lt;strong&gt;Primer período de matrícula:&lt;/strong&gt;
Desde: martes 20 de enero de 2026
Hasta: jueves 22 de enero de 2026

&lt;strong&gt;Segundo período de matrícula:&lt;/strong&gt;
Desde: viernes 23 de enero de 2026
Hasta: jueves 29 de enero de 2026
LOCATION:
DTSTART;TZID=America/Santiago:20260323T000000
DTEND;TZID=America/Santiago:20260619T000000
END:VEVENT
END:VCALENDAR
